BEGIN:VCALENDAR
VERSION:2.0
PRODID:-//Lake Springfield Christian Assembly - ECPv6.15.20//NONSGML v1.0//EN
CALSCALE:GREGORIAN
METHOD:PUBLISH
X-ORIGINAL-URL:https://lscacamp.org
X-WR-CALDESC:Events for Lake Springfield Christian Assembly
REFRESH-INTERVAL;VALUE=DURATION:PT1H
X-Robots-Tag:noindex
X-PUBLISHED-TTL:PT1H
BEGIN:VTIMEZONE
TZID:America/Chicago
BEGIN:DAYLIGHT
TZOFFSETFROM:-0600
TZOFFSETTO:-0500
TZNAME:CDT
DTSTART:20250309T080000
END:DAYLIGHT
BEGIN:STANDARD
TZOFFSETFROM:-0500
TZOFFSETTO:-0600
TZNAME:CST
DTSTART:20251102T070000
END:STANDARD
BEGIN:DAYLIGHT
TZOFFSETFROM:-0600
TZOFFSETTO:-0500
TZNAME:CDT
DTSTART:20260308T080000
END:DAYLIGHT
BEGIN:STANDARD
TZOFFSETFROM:-0500
TZOFFSETTO:-0600
TZNAME:CST
DTSTART:20261101T070000
END:STANDARD
BEGIN:DAYLIGHT
TZOFFSETFROM:-0600
TZOFFSETTO:-0500
TZNAME:CDT
DTSTART:20270314T080000
END:DAYLIGHT
BEGIN:STANDARD
TZOFFSETFROM:-0500
TZOFFSETTO:-0600
TZNAME:CST
DTSTART:20271107T070000
END:STANDARD
END:VTIMEZONE
BEGIN:VEVENT
DTSTART;TZID=America/Chicago:20260629T080000
DTEND;TZID=America/Chicago:20260701T170000
DTSTAMP:20260419T174515
CREATED:20251215T162535Z
LAST-MODIFIED:20251215T162536Z
UID:4934-1782720000-1782925200@lscacamp.org
SUMMARY:Discovery Camp 4
DESCRIPTION:Discovery Camps run Monday through Friday throughout the summer for campers entering 2nd through 4th grade. This is a full-day program with no overnight stay. Campers enjoy Bible lessons\, outdoor play\, daily swimming\, crafts\, and structured activities that rotate each week. LSCA provides morning and afternoon snacks; campers bring their own lunch. \n\n\n\nEach week has a unique lesson plan and craft theme\, allowing campers to attend multiple weeks without repeating activities. Camps take place at Lakeview Lodge\, and each camper receives a t-shirt. \n\n\n\n\nRegister Here!!!
URL:https://lscacamp.org/event/discovery-camp-4/
LOCATION:Lakeview Lodge\, 1674 Lick Creek Ln\, Chatham\, Illinois\, 62629\, United States
ATTACH;FMTTYPE=image/png:https://lscacamp.org/wp-content/uploads/2025/12/Discovery-Camp-2026-v2.png
END:VEVENT
BEGIN:VEVENT
DTSTART;TZID=America/Chicago:20260629T080000
DTEND;TZID=America/Chicago:20260701T170000
DTSTAMP:20260419T174515
CREATED:20251215T172827Z
LAST-MODIFIED:20251215T172828Z
UID:4960-1782720000-1782925200@lscacamp.org
SUMMARY:Jr. High Xtreme Day Camp
DESCRIPTION:Adventure Extreme is built for middle school campers who love a challenge and want to take their camp experience to the next level. Designed for 6th–8th graders\, this three-day daytime program is loaded with skill-building activities\, outdoor adventures\, and opportunities to grow in confidence and faith. \n\n\n\nCampers may take part in water sports such as skiing\, paddling\, or fishing; test their abilities on trails; try biking or archery; and participate in team challenges that stretch both body and mind. Each day runs from 8:00 a.m. to 5:00–5:15 p.m. and includes lunch as well as morning and afternoon canteen times. \n\n\n\nAlongside the fun and adventure\, campers experience worship\, teaching\, and small-group moments that help them learn to walk closer with Christ. Adventure Extreme is fast-paced\, exciting\, and designed to help students discover what they’re capable of — all while building strong friendships and unforgettable memories. \n\n\n\n\nRegister Here!!!
URL:https://lscacamp.org/event/jr-high-xtreme-day-camp/
LOCATION:LSCA\, 1674 Lick Creek Ln\, Chatham\, Illinois\, 62629\, United States
ATTACH;FMTTYPE=image/png:https://lscacamp.org/wp-content/uploads/2025/12/Jr.-High-Xtreme-Adventure-2026.png
END:VEVENT
BEGIN:VEVENT
DTSTART;TZID=America/Chicago:20260705T120000
DTEND;TZID=America/Chicago:20260710T190000
DTSTAMP:20260419T174515
CREATED:20251215T174434Z
LAST-MODIFIED:20251215T174509Z
UID:4963-1783252800-1783710000@lscacamp.org
SUMMARY:High School Wilderness
DESCRIPTION:High School Wilderness is designed for students who are ready for a camp experience that stretches them — physically\, emotionally\, and spiritually. This off-site trip partners with Discovery Ministries to take high school campers deep into the Missouri wilderness\, where trained Christian guides lead them through days of backpacking\, canoeing\, rugged terrain\, and hands-on outdoor living. \n\n\n\nThe challenge is real. Campers carry their own gear\, cook over a fire\, set up and break down camp\, and adapt to weather\, terrain\, and the unexpected. There are no phones\, no electricity\, and no shortcuts — just the simplicity of wilderness\, the rhythm of hard work\, and the satisfaction that comes from doing something difficult together. \n\n\n\nIn that simplicity\, campers often discover more than they expected: resilience they didn’t realize they had\, confidence born from overcoming discomfort\, and clarity that comes only when the noise of everyday life falls away. The physical effort becomes the setting for powerful spiritual growth — Scripture shared around a fire\, conversations on the trail\, quiet moments beside the water\, and the realization that God often speaks loudly in the still places. \n\n\n\nThis is not an easy week\, and it is intentionally not for everyone. But for students who are willing to unplug\, push themselves\, and step fully into the challenge\, High School Wilderness becomes a defining experience — one that builds grit\, deepens faith\, strengthens community\, and leaves a lasting imprint long after the trail ends. \n\n\n\n\nRegister Here!!!
URL:https://lscacamp.org/event/high-school-wilderness/
LOCATION:LSCA\, 1674 Lick Creek Ln\, Chatham\, Illinois\, 62629\, United States
ATTACH;FMTTYPE=image/png:https://lscacamp.org/wp-content/uploads/2025/12/High-School-Wilderness-2026.png
END:VEVENT
BEGIN:VEVENT
DTSTART;TZID=America/Chicago:20260706T080000
DTEND;TZID=America/Chicago:20260710T170000
DTSTAMP:20260419T174515
CREATED:20251215T162627Z
LAST-MODIFIED:20251215T162628Z
UID:4936-1783324800-1783702800@lscacamp.org
SUMMARY:Discovery Camp 5
DESCRIPTION:Discovery Camps run Monday through Friday throughout the summer for campers entering 2nd through 4th grade. This is a full-day program with no overnight stay. Campers enjoy Bible lessons\, outdoor play\, daily swimming\, crafts\, and structured activities that rotate each week. LSCA provides morning and afternoon snacks; campers bring their own lunch. \n\n\n\nEach week has a unique lesson plan and craft theme\, allowing campers to attend multiple weeks without repeating activities. Camps take place at Lakeview Lodge\, and each camper receives a t-shirt. \n\n\n\n\nRegister Here!!!
URL:https://lscacamp.org/event/discovery-camp-5/
LOCATION:Lakeview Lodge\, 1674 Lick Creek Ln\, Chatham\, Illinois\, 62629\, United States
ATTACH;FMTTYPE=image/png:https://lscacamp.org/wp-content/uploads/2025/12/Discovery-Camp-2026-v2.png
END:VEVENT
BEGIN:VEVENT
DTSTART;TZID=America/Chicago:20260707T080000
DTEND;TZID=America/Chicago:20260707T170000
DTSTAMP:20260419T174515
CREATED:20251215T192832Z
LAST-MODIFIED:20251215T200014Z
UID:4969-1783411200-1783443600@lscacamp.org
SUMMARY:Day Camp
DESCRIPTION:Day Camp is designed especially for young campers who are ready for a full day of adventure without the overnight stay. This 8-hour experience gives 1st and 2nd graders a meaningful introduction to LSCA through a fun\, structured schedule tailored to their age and energy level. \n\n\n\nCampers enjoy a tour of camp\, an engaging Bible lesson\, outdoor games\, water play\, the giant waterslide\, pool time\, crafts\, and time on the playground. They receive lunch plus morning and afternoon snack times\, ensuring they stay fueled and ready for each new adventure. \n\n\n\nDay Camp helps children grow in confidence\, make new friends\, and learn about God in a safe\, encouraging environment. It’s the perfect first step into the world of LSCA—full of fun\, movement\, and moments they’ll remember long after the day is over. \n\n\n\n\nRegister Here!!!
URL:https://lscacamp.org/event/day-camp/
LOCATION:LSCA\, 1674 Lick Creek Ln\, Chatham\, Illinois\, 62629\, United States
ATTACH;FMTTYPE=image/png:https://lscacamp.org/wp-content/uploads/2025/12/Day-Camp-2026.png
END:VEVENT
BEGIN:VEVENT
DTSTART;TZID=America/Chicago:20260707T160000
DTEND;TZID=America/Chicago:20260710T120000
DTSTAMP:20260419T174515
CREATED:20251215T175022Z
LAST-MODIFIED:20251215T175023Z
UID:4966-1783440000-1783684800@lscacamp.org
SUMMARY:Adventure 78
DESCRIPTION:Adventure 78 takes middle school campers into a more rugged\, hands-on camp experience designed specifically for their age group. Held at our Cypress Cove location\, this session keeps the entire camp outdoors—from meals cooked over the fire to daily activities that stretch skills and build teamwork. Campers shoot archery\, swim\, explore the outdoors\, play field games\, and may enjoy tubing or other lake activities depending on conditions and leadership plans. \n\n\n\nWith a smaller group size than traditional overnight camps\, Adventure 78 fosters tight friendships\, deeper conversations\, and a space where campers feel known and supported. Middle schoolers thrive on challenge and discovery\, and this camp meets them right there—offering plenty of excitement while encouraging them to grow in independence\, resilience\, and their walk with Christ. \n\n\n\nAdventure 78 blends adventure\, spiritual depth\, and meaningful community into an unforgettable outdoor experience for campers ready to go beyond the traditional camp routine. \n\n\n\n\nRegister Here!!!
URL:https://lscacamp.org/event/adventure-78/
LOCATION:LSCA\, 1674 Lick Creek Ln\, Chatham\, Illinois\, 62629\, United States
ATTACH;FMTTYPE=image/png:https://lscacamp.org/wp-content/uploads/2025/12/Adventure-78-2026.png
END:VEVENT
BEGIN:VEVENT
DTSTART;TZID=America/Chicago:20260713T080000
DTEND;TZID=America/Chicago:20260717T170000
DTSTAMP:20260419T174515
CREATED:20251215T162719Z
LAST-MODIFIED:20251215T162720Z
UID:4938-1783929600-1784307600@lscacamp.org
SUMMARY:Discovery Camp 6
DESCRIPTION:Discovery Camps run Monday through Friday throughout the summer for campers entering 2nd through 4th grade. This is a full-day program with no overnight stay. Campers enjoy Bible lessons\, outdoor play\, daily swimming\, crafts\, and structured activities that rotate each week. LSCA provides morning and afternoon snacks; campers bring their own lunch. \n\n\n\nEach week has a unique lesson plan and craft theme\, allowing campers to attend multiple weeks without repeating activities. Camps take place at Lakeview Lodge\, and each camper receives a t-shirt. \n\n\n\n\nRegister Here!!!
URL:https://lscacamp.org/event/discovery-camp-6/
LOCATION:Lakeview Lodge\, 1674 Lick Creek Ln\, Chatham\, Illinois\, 62629\, United States
ATTACH;FMTTYPE=image/png:https://lscacamp.org/wp-content/uploads/2025/12/Discovery-Camp-2026-v2.png
END:VEVENT
BEGIN:VEVENT
DTSTART;TZID=America/Chicago:20260713T090000
DTEND;TZID=America/Chicago:20260713T120000
DTSTAMP:20260419T174515
CREATED:20251215T200618Z
LAST-MODIFIED:20251215T200619Z
UID:4978-1783933200-1783944000@lscacamp.org
SUMMARY:Hello Camp 1
DESCRIPTION:Hello Camp is designed for our youngest future campers—ages 2–5—and gives them a joyful first introduction to LSCA with the comfort of having an adult attend alongside them. This three-hour experience is packed with age-appropriate fun: water play\, crafts\, swimming or splash time\, a short Bible lesson\, and simple activities that help children explore camp in a relaxed and encouraging environment. \n\n\n\nThe pace is gentle\, the atmosphere is welcoming\, and everything is structured to help little ones feel safe\, excited\, and confident. It’s also a wonderful opportunity for parents\, grandparents\, or guardians to share a memory-making experience together at camp. Each participant receives a camp T-shirt\, adding an extra layer of celebration to this first step into the LSCA community. \n\n\n\nHello Camp is a delightful way to begin a child’s camp journey—full of smiles\, discovery\, and early moments of learning about God’s love. \n\n\n\n\nRegister Here!!!
URL:https://lscacamp.org/event/hello-camp-1/
LOCATION:LSCA\, 1674 Lick Creek Ln\, Chatham\, Illinois\, 62629\, United States
ATTACH;FMTTYPE=image/png:https://lscacamp.org/wp-content/uploads/2025/12/Hello-Camp-2026.png
END:VEVENT
BEGIN:VEVENT
DTSTART;TZID=America/Chicago:20260713T130000
DTEND;TZID=America/Chicago:20260713T160000
DTSTAMP:20260419T174515
CREATED:20251215T200732Z
LAST-MODIFIED:20251215T200733Z
UID:4981-1783947600-1783958400@lscacamp.org
SUMMARY:Hello Camp 2
DESCRIPTION:Hello Camp is designed for our youngest future campers—ages 2–5—and gives them a joyful first introduction to LSCA with the comfort of having an adult attend alongside them. This three-hour experience is packed with age-appropriate fun: water play\, crafts\, swimming or splash time\, a short Bible lesson\, and simple activities that help children explore camp in a relaxed and encouraging environment. \n\n\n\nThe pace is gentle\, the atmosphere is welcoming\, and everything is structured to help little ones feel safe\, excited\, and confident. It’s also a wonderful opportunity for parents\, grandparents\, or guardians to share a memory-making experience together at camp. Each participant receives a camp T-shirt\, adding an extra layer of celebration to this first step into the LSCA community. \n\n\n\nHello Camp is a delightful way to begin a child’s camp journey—full of smiles\, discovery\, and early moments of learning about God’s love. \n\n\n\n\nRegister Here!!!
URL:https://lscacamp.org/event/hello-camp-2/
LOCATION:LSCA\, 1674 Lick Creek Ln\, Chatham\, Illinois\, 62629\, United States
ATTACH;FMTTYPE=image/png:https://lscacamp.org/wp-content/uploads/2025/12/Hello-Camp-2026.png
END:VEVENT
BEGIN:VEVENT
DTSTART;TZID=America/Chicago:20260719T150000
DTEND;TZID=America/Chicago:20260724T160000
DTSTAMP:20260419T174515
CREATED:20251215T210155Z
LAST-MODIFIED:20251215T210157Z
UID:4983-1784473200-1784908800@lscacamp.org
SUMMARY:Jr. High Camp
DESCRIPTION:Junior High Camp is designed for students entering 7th and 8th grade who are ready for a week packed with excitement\, challenge\, and opportunities to grow. Campers stay in air-conditioned dorms\, enjoy delicious from-scratch meals\, and spend their days swimming\, boating\, playing gaga ball and 9-square\, competing in team challenges\, trying archery\, and jumping into camp-wide games that match their energy. \n\n\n\nBut the heart of Junior High Camp goes deeper than the activities. Students gather daily for worship\, Bible teaching\, small group discussions\, and personal reflection—creating space for real questions\, real conversations\, and real spiritual growth. This age group is navigating big transitions\, and camp provides a welcoming community where they can build friendships\, gain confidence\, and better understand their identity in Christ. \n\n\n\nCampers also hear from our summer missionary partner and have chances to support their ministry through canteen offerings throughout the week. \n\n\n\nJunior High Camp is a powerful blend of fun\, challenge\, and faith formation—an unforgettable week where students experience God\, community\, and adventure in a whole new way. \n\n\n\n\nRegister Here!!!
URL:https://lscacamp.org/event/jr-high-camp/
LOCATION:LSCA\, 1674 Lick Creek Ln\, Chatham\, Illinois\, 62629\, United States
ATTACH;FMTTYPE=image/png:https://lscacamp.org/wp-content/uploads/2025/12/Jr.-High-Camp-2026.png
END:VEVENT
BEGIN:VEVENT
DTSTART;TZID=America/Chicago:20260720T080000
DTEND;TZID=America/Chicago:20260724T170000
DTSTAMP:20260419T174515
CREATED:20251215T162750Z
LAST-MODIFIED:20251215T162751Z
UID:4940-1784534400-1784912400@lscacamp.org
SUMMARY:Discovery Camp 7
DESCRIPTION:Discovery Camps run Monday through Friday throughout the summer for campers entering 2nd through 4th grade. This is a full-day program with no overnight stay. Campers enjoy Bible lessons\, outdoor play\, daily swimming\, crafts\, and structured activities that rotate each week. LSCA provides morning and afternoon snacks; campers bring their own lunch. \n\n\n\nEach week has a unique lesson plan and craft theme\, allowing campers to attend multiple weeks without repeating activities. Camps take place at Lakeview Lodge\, and each camper receives a t-shirt. \n\n\n\n\nRegister Here!!!
URL:https://lscacamp.org/event/discovery-camp-7/
LOCATION:Lakeview Lodge\, 1674 Lick Creek Ln\, Chatham\, Illinois\, 62629\, United States
ATTACH;FMTTYPE=image/png:https://lscacamp.org/wp-content/uploads/2025/12/Discovery-Camp-2026-v2.png
END:VEVENT
END:VCALENDAR