BEGIN:VCALENDAR
VERSION:2.0
PRODID:-//Lake Springfield Christian Assembly - ECPv6.15.20//NONSGML v1.0//EN
CALSCALE:GREGORIAN
METHOD:PUBLISH
X-WR-CALNAME:Lake Springfield Christian Assembly
X-ORIGINAL-URL:https://lscacamp.org
X-WR-CALDESC:Events for Lake Springfield Christian Assembly
REFRESH-INTERVAL;VALUE=DURATION:PT1H
X-Robots-Tag:noindex
X-PUBLISHED-TTL:PT1H
BEGIN:VTIMEZONE
TZID:America/Chicago
BEGIN:DAYLIGHT
TZOFFSETFROM:-0600
TZOFFSETTO:-0500
TZNAME:CDT
DTSTART:20240310T080000
END:DAYLIGHT
BEGIN:STANDARD
TZOFFSETFROM:-0500
TZOFFSETTO:-0600
TZNAME:CST
DTSTART:20241103T070000
END:STANDARD
BEGIN:DAYLIGHT
TZOFFSETFROM:-0600
TZOFFSETTO:-0500
TZNAME:CDT
DTSTART:20250309T080000
END:DAYLIGHT
BEGIN:STANDARD
TZOFFSETFROM:-0500
TZOFFSETTO:-0600
TZNAME:CST
DTSTART:20251102T070000
END:STANDARD
BEGIN:DAYLIGHT
TZOFFSETFROM:-0600
TZOFFSETTO:-0500
TZNAME:CDT
DTSTART:20260308T080000
END:DAYLIGHT
BEGIN:STANDARD
TZOFFSETFROM:-0500
TZOFFSETTO:-0600
TZNAME:CST
DTSTART:20261101T070000
END:STANDARD
END:VTIMEZONE
BEGIN:VEVENT
DTSTART;TZID=America/Chicago:20251115T080000
DTEND;TZID=America/Chicago:20251115T130000
DTSTAMP:20260420T152911
CREATED:20251205T155325Z
LAST-MODIFIED:20251205T155326Z
UID:4607-1763193600-1763211600@lscacamp.org
SUMMARY:Service Day
DESCRIPTION:Help us prepare camp to weather the winter season! We start with Coffee and Cinnamon Rolls\, and end with lunch!
URL:https://lscacamp.org/event/service-day/
ATTACH;FMTTYPE=image/png:https://lscacamp.org/wp-content/uploads/2023/03/Spring-Service-Day-Postcard.png
END:VEVENT
BEGIN:VEVENT
DTSTART;TZID=America/Chicago:20251107T173000
DTEND;TZID=America/Chicago:20251109T120000
DTSTAMP:20260420T152911
CREATED:20251024T144623Z
LAST-MODIFIED:20251024T152028Z
UID:4288-1762536600-1762689600@lscacamp.org
SUMMARY:PreTeen Retreat
DESCRIPTION:3rd – 5th Grade \n\n\n\nWhat to bring: Bible\, Bedding\, Toiletries\, Towels\, Soap\, Flashlight\, Change of Clothes \n\n\n\n\nRegister Here!!!
URL:https://lscacamp.org/event/preteen-retreat/
LOCATION:Lake Springfield Christian Assembly\, 1674 Lick Creek Ln\, Chatham\, IL\, 62629\, United States
ATTACH;FMTTYPE=image/jpeg:https://lscacamp.org/wp-content/uploads/2025/09/Pre-teen-retreat-postcard-2025.jpg
END:VEVENT
BEGIN:VEVENT
DTSTART;TZID=America/Chicago:20251101T183000
DTEND;TZID=America/Chicago:20251101T200000
DTSTAMP:20260420T152911
CREATED:20251024T143147Z
LAST-MODIFIED:20251024T143148Z
UID:4286-1762021800-1762027200@lscacamp.org
SUMMARY:Fall Night Out
DESCRIPTION:LSCA’s 2025 Fall Night Out – FREE EVENT \n\n\n\nweenie roast\, caramel apples\, & hay rides\n\n\n\nInvite your friends!
URL:https://lscacamp.org/event/fall-night-out/
LOCATION:Lake Springfield Christian Assembly\, 1674 Lick Creek Ln\, Chatham\, IL\, 62629\, United States
END:VEVENT
END:VCALENDAR